BEGIN:VCALENDAR
VERSION:2.0
PRODID:-//Liebig-Museum und Laboratorium Gießen - ECPv6.15.11//NONSGML v1.0//EN
CALSCALE:GREGORIAN
METHOD:PUBLISH
X-WR-CALNAME:Liebig-Museum und Laboratorium Gießen
X-ORIGINAL-URL:https://www.liebig-museum.de
X-WR-CALDESC:Veranstaltungen für Liebig-Museum und Laboratorium Gießen
REFRESH-INTERVAL;VALUE=DURATION:PT1H
X-Robots-Tag:noindex
X-PUBLISHED-TTL:PT1H
BEGIN:VTIMEZONE
TZID:Europe/Berlin
BEGIN:DAYLIGHT
TZOFFSETFROM:+0100
TZOFFSETTO:+0200
TZNAME:CEST
DTSTART:20230326T010000
END:DAYLIGHT
BEGIN:STANDARD
TZOFFSETFROM:+0200
TZOFFSETTO:+0100
TZNAME:CET
DTSTART:20231029T010000
END:STANDARD
BEGIN:DAYLIGHT
TZOFFSETFROM:+0100
TZOFFSETTO:+0200
TZNAME:CEST
DTSTART:20240331T010000
END:DAYLIGHT
BEGIN:STANDARD
TZOFFSETFROM:+0200
TZOFFSETTO:+0100
TZNAME:CET
DTSTART:20241027T010000
END:STANDARD
BEGIN:DAYLIGHT
TZOFFSETFROM:+0100
TZOFFSETTO:+0200
TZNAME:CEST
DTSTART:20250330T010000
END:DAYLIGHT
BEGIN:STANDARD
TZOFFSETFROM:+0200
TZOFFSETTO:+0100
TZNAME:CET
DTSTART:20251026T010000
END:STANDARD
END:VTIMEZONE
BEGIN:VEVENT
DTSTART;TZID=Europe/Berlin:20241103T110000
DTEND;TZID=Europe/Berlin:20241103T150000
DTSTAMP:20260420T015235
CREATED:20241102T165744Z
LAST-MODIFIED:20241102T165859Z
UID:4564-1730631600-1730646000@www.liebig-museum.de
SUMMARY:Liebigmuseum bei Liebigs Suppenfest am Lindenplatz Gießen
DESCRIPTION:Am 3. November ist wieder Liebigs Suppenfest und Ihr könnt köstliche Suppen auf dem Lindenplatz und unter den Marktlauben genießen. Wir sind mit Live-Spezial-Experimenten und einer selbst gekochten Linsen-Suppe von der Suppenküche von St. Albertus für Euch vor Ort. \nDen ganzen Tag über von 11 bis 15 Uhr gibt es neben den Experimenten ein tolles Programm für Groß und Klein\, Jung und Alt auf der StadtRaumBühne auf dem Lindenplatz: Für Musik sorgen „Die Neuen Nachbarn“ und „The Muskmelons“. Zwei kostenfreie Mini-Stadtführungen führen auf den Stadtkirchenturm. \nRahmenprogramm: \n\n11:00 Uhr         Live-Musik der Band „Die Neuen Nachbarn“ auf der StadtRaumBühne am Lindenplatz\n12:00 Uhr        Mini-Führung auf den Stadtkirchenturm (kostenfrei) – Treffpunkt am Infopoint der Gießen Marketing in den Marktlauben\n12:30 Uhr         Live-Experimente des Liebig-Museums auf der StadtRaumBühne am Lindenplatz\n13:30 Uhr        Mini-Führung auf den Stadtkirchenturm (kostenfrei) – Treffpunkt am Infopoint der Gießen Marketing in den Marktlauben\n13:30 Uhr         Live-Musik der Band „The Muskmelons“ auf der StadtRaumBühne am Lindenplatz\n\nVeranstalter ist die Gießen Marketing GmbH – wir danken für die Organisation und freuen uns auf Euer Kommen!
URL:https://www.liebig-museum.de/veranstaltung/liebigmuseum-bei-liebigs-suppenfest-am-lindenplatz-giessen/
LOCATION:Lindenplatz Gießen\, Lindenplatz\, Gießen\, 35390\, Deutschland
CATEGORIES:Experimentalvorlesung,Liebigs Suppenfest
ATTACH;FMTTYPE=image/jpeg:https://www.liebig-museum.de/wp-content/uploads/2024/11/2024_Giessen_Marketing_LIEBIGS-SUPPENFEST.jpg
END:VEVENT
END:VCALENDAR